BEGIN:VCALENDAR
VERSION:2.0
PRODID:-//Club St Georges - ECPv6.15.20//NONSGML v1.0//EN
CALSCALE:GREGORIAN
METHOD:PUBLISH
X-WR-CALNAME:Club St Georges
X-ORIGINAL-URL:https://clubstgeorges.fr
X-WR-CALDESC:Évènements pour Club St Georges
REFRESH-INTERVAL;VALUE=DURATION:PT1H
X-Robots-Tag:noindex
X-PUBLISHED-TTL:PT1H
BEGIN:VTIMEZONE
TZID:Europe/Paris
BEGIN:DAYLIGHT
TZOFFSETFROM:+0100
TZOFFSETTO:+0200
TZNAME:CEST
DTSTART:20250330T010000
END:DAYLIGHT
BEGIN:STANDARD
TZOFFSETFROM:+0200
TZOFFSETTO:+0100
TZNAME:CET
DTSTART:20251026T010000
END:STANDARD
BEGIN:DAYLIGHT
TZOFFSETFROM:+0100
TZOFFSETTO:+0200
TZNAME:CEST
DTSTART:20260329T010000
END:DAYLIGHT
BEGIN:STANDARD
TZOFFSETFROM:+0200
TZOFFSETTO:+0100
TZNAME:CET
DTSTART:20261025T010000
END:STANDARD
BEGIN:DAYLIGHT
TZOFFSETFROM:+0100
TZOFFSETTO:+0200
TZNAME:CEST
DTSTART:20270328T010000
END:DAYLIGHT
BEGIN:STANDARD
TZOFFSETFROM:+0200
TZOFFSETTO:+0100
TZNAME:CET
DTSTART:20271031T010000
END:STANDARD
END:VTIMEZONE
BEGIN:VEVENT
DTSTART;TZID=Europe/Paris:20260429T163000
DTEND;TZID=Europe/Paris:20260429T193000
DTSTAMP:20260425T144304
CREATED:20260221T193701Z
LAST-MODIFIED:20260423T101433Z
UID:5677-1777480200-1777491000@clubstgeorges.fr
SUMMARY:Jazz & Marionnettes
DESCRIPTION:Dans le cadre du tout nouveau Festival de marionnettes de Vienne\,\nun Concert JAZZ animé aura lieu au Club St Georges\, le 29 avril\,\navec la troupe du Crazy Comics Puppets et les musiciens du Club St Georges. \nVenez découvrir les aventures de Georges le renard et ses amis\, au pays du Jazz ! \nLine-up: \nMegane Dumas : voix\nTim Bouinoual : contrebasse\nFrédéric Manoukian : piano\nRoger Boghossian : batterie \nPour animer Georges (la mascotte) et ses amis\, Michel Rodrigue et Fabienne Marchand \n\nUn Concert Jazz animé pour petits et grands\, en deux séances\, de 16h30 à 17h30 et de 18h30 à 19h30.\nP.A.F. 10/12/15€ (12 € < 25 ans) et (10€ < 12 ans) \nRéservation au 06 83 81 55 21 ou HelloAsso \n 
URL:https://clubstgeorges.fr/index.php/evenement/jazz-marionnettes/
LOCATION:Club St Georges\, 1 rue Romanet\, Vienne\, 38200\, France
ATTACH;FMTTYPE=image/jpeg:https://clubstgeorges.fr/wp-content/uploads/2026/02/IMG_20260417_224919-1.jpg
END:VEVENT
BEGIN:VEVENT
DTSTART;TZID=Europe/Paris:20260430T184500
DTEND;TZID=Europe/Paris:20260430T200000
DTSTAMP:20260425T144304
CREATED:20260324T110159Z
LAST-MODIFIED:20260329T163134Z
UID:5723-1777574700-1777579200@clubstgeorges.fr
SUMMARY:International JAZZ Day
DESCRIPTION:Organisé le 30 avril dans les plus grandes villes du monde\, le Jazz Day est destiné à sensibiliser le grand public aux vertus du jazz. \n\n« Le jazz a toujours eu pour vocation de rassembler les gens\, de briser les barrières et d’inspirer la créativité à travers les cultures. La Journée internationale du jazz nous rappelle que la musique a le pouvoir de transcender les frontières\, de favoriser le dialogue et de susciter la joie et l’espoir. » Herbie Hancock\, ambassadeur de bonne volonté de l’UNESCO \nCe soir APRoCh Jazz 4têt vous fera voyager sur un répertoire de grands standards du Jazz; de Forest Flower à Delilah\, en passant par Voyage (version Stan Getz)… \n \nRéservation conseillée par SMS : 06 83 81 55 21\nParticipation à la tradition du Chapeau ( P.A.F mini 5 /10 €)
URL:https://clubstgeorges.fr/index.php/evenement/international-jazz-day-3/
LOCATION:Club St Georges\, 1 rue Romanet\, Vienne\, 38200\, France
ATTACH;FMTTYPE=image/jpeg:https://clubstgeorges.fr/wp-content/uploads/2026/03/jazz-day-2026.jpg
END:VEVENT
BEGIN:VEVENT
DTSTART;TZID=Europe/Paris:20260530T184500
DTEND;TZID=Europe/Paris:20260530T220000
DTSTAMP:20260425T144304
CREATED:20260123T094614Z
LAST-MODIFIED:20260316T101023Z
UID:5629-1780166700-1780178400@clubstgeorges.fr
SUMMARY:INTERMED
DESCRIPTION:Deux séances concerts d’une heure\, en Live avec Musiciens sur Scène;La première de 18h45 à 19h45 P.A.F. 12/15€La seconde de 21h00 à 22h00 P.A.F. 12/15€ \nIntermed puise son répertoire dans les plus grands classiques de jazz\, ainsi que dans des compositions plus modernes.\nCe groupe intergénérationnel se fera un grand plaisir à vous faire voyager à travers les divers univers du Jazz\, de Charlie Parker à Chic Corea\, en passant par Average White Band et bien d’autres ! \nhttps://clubstgeorges.fr/wp-content/uploads/2024/10/WhatsApp-Video-2024-10-15-a-22.04.03_8a73eb51.mp4\nLine-up: \n\nXavier Gerphagnon : saxophone alto\nMickael Missirlian : saxophone baryton\nPascal Pollonni : guitare\nElie Hoffmann : contrebasse\nVincent Camarroque : batterie\n\nP.A.F. 12/15€(12 € < 25 ans) et (10€ < 12 ans)\nRéservation conseillée au 06 83 81 55 21 ou HelloAsso
URL:https://clubstgeorges.fr/index.php/evenement/intermed-2/
LOCATION:Club St Georges\, 1 rue Romanet\, Vienne\, 38200\, France
ATTACH;FMTTYPE=image/jpeg:https://clubstgeorges.fr/wp-content/uploads/2025/02/470671665_1084171323508513_6379299475420757247_n.jpg
END:VEVENT
BEGIN:VEVENT
DTSTART;TZID=Europe/Paris:20260531T160000
DTEND;TZID=Europe/Paris:20260531T170000
DTSTAMP:20260425T144304
CREATED:20260127T080956Z
LAST-MODIFIED:20260224T091816Z
UID:5647-1780243200-1780246800@clubstgeorges.fr
SUMMARY:Les Dynamic Strings
DESCRIPTION:Une immersion totale dans les années 60… La musique des Shadows\, groupe mythique britannique de Rock !\nThe Shadows demeurent une référence en matière de son de guitare électrique. \nJacques Brun : guitare solo\nDidier Monod : guitare\nJean-René Brunel : basse\nRoger Boghossian : batterie \n\nSéance concert d’une heure\, en Live avec Musiciens sur Scène à 16h00 \n\nP.A.F 15/12€ < 25 ans \nRéservation au 06 83 81 55 21 ou HelloAsso
URL:https://clubstgeorges.fr/index.php/evenement/les-dynamic-strings-2/
LOCATION:Club St Georges\, 1 rue Romanet\, Vienne\, 38200\, France
ATTACH;FMTTYPE=image/jpeg:https://clubstgeorges.fr/wp-content/uploads/2026/01/9140356-DxO_DeepPRIME-XD2s-2-scaled.jpg
END:VEVENT
END:VCALENDAR